BEGIN:VCALENDAR
VERSION:2.0
PRODID:-//Forum Penal - ECPv6.15.20//NONSGML v1.0//EN
CALSCALE:GREGORIAN
METHOD:PUBLISH
X-ORIGINAL-URL:https://www.forumpenal.pt
X-WR-CALDESC:Eventos para Forum Penal
REFRESH-INTERVAL;VALUE=DURATION:PT1H
X-Robots-Tag:noindex
X-PUBLISHED-TTL:PT1H
BEGIN:VTIMEZONE
TZID:UTC
BEGIN:STANDARD
TZOFFSETFROM:+0000
TZOFFSETTO:+0000
TZNAME:UTC
DTSTART:20240101T000000
END:STANDARD
END:VTIMEZONE
BEGIN:VEVENT
DTSTART;TZID=UTC:20250602T090000
DTEND;TZID=UTC:20250606T170000
DTSTAMP:20260421T220923
CREATED:20250308T222642Z
LAST-MODIFIED:20250509T104841Z
UID:1429-1748854800-1749229200@www.forumpenal.pt
SUMMARY:TRIAL ADVOCACY TRAINING: MASTERING THE ART OF CRIMINAL LITIGATION
DESCRIPTION:O Forum Penal organiza a formação Trial Advocacy Training: Mastering the Art of Criminal Litigation\, uma formação sobre prática forense criminal ministrada por reconhecidos formadores internacionais: Eric Placke\, Jefferson Gray\, Matt Fishbein\, Nancy Hollander\,  Natasha Silas\, Scott Richardson. \nA formação será em inglês\, terá a duração de 2 dias e irá realizar-se em 2 grupos: \n\nGrupo 1 – dias 2 e 3 de Junho de 2025;\nGrupo 2 – dias 4 e 5 de Junho de 2025.\n\nA estas sessões de formação irá acrescer 1 sessão de demonstração prática\, realizada pelos próprios formadores\, em contexto de Tribunal\, no dia 6 de Junho de 2025 (Grupos 1 e 2). \n*             *             * \nA participação na formação está sujeita a inscrição e as vagas são limitadas. \nO valor de inscrição para Associados do Forum Penal é de EUR 95\,00 e para não Associados de EUR 190\,00. \nA inscrição será considerada válida mediante preenchimento do formulário infra e pagamento do valor correspondente\, a realizar mediante transferência bancária (para a conta bancária titulada pelo Forum Penal – Associação de Advogados Penalistas junto do Banco Millennium BCP\, com o IBAN PT50 0033 0000 4543 1450 494 05). \nO programa poderá ser consultado aqui. \nConheça os nossos formadores: \nhttps://www.forumpenal.pt/wp-content/uploads/2025/03/TRTRIAL-ADVOCACY-TRAINING-MASTERING-THE-ART-OF-CRIMINAL-LITIGATION-6-1.mp4\n  \nInscrição: \nPlease enable JavaScript in your browser to complete this form.Please enable JavaScript in your browser to complete this form.Nome *		\n			Grupo eletrónico Personalizado\n			\n		\n		Correio eletrónico *Profissão *Escritório / ProveniênciaGrupo *Grupo 1Grupo 2Captcha Personalizado *			\n				\n											\n						\n						\n											=\n				\n								\n				\n				\n			\n			Enviar
URL:https://www.forumpenal.pt/evento/trial-advocacy-training-mastering-the-art-of-criminal-litigation/
LOCATION:Rua dos Anjos\, n.º 79\, 1150-035 Lisboa\, Rua dos Anjos\, n.º 79\, Lisboa\, 1150-035\, Portugal
CATEGORIES:workshop
ATTACH;FMTTYPE=image/png:https://www.forumpenal.pt/wp-content/uploads/2025/03/Trial-Advocay-Training-Post-500-x-625-px-2.png
END:VEVENT
BEGIN:VEVENT
DTSTART;TZID=UTC:20250606T100000
DTEND;TZID=UTC:20250606T123000
DTSTAMP:20260421T220923
CREATED:20250604T231837Z
LAST-MODIFIED:20250604T232237Z
UID:1571-1749204000-1749213000@www.forumpenal.pt
SUMMARY:TRIAL ADVOCACY TRAINING: MASTERING THE ART OF CRIMINAL LITIGATION
DESCRIPTION:O Forum Penal organiza a formação Trial Advocacy Training: Mastering the Art of Criminal Litigation\, uma formação sobre prática forense criminal ministrada por reconhecidos formadores internacionais: Eric Placke\, Jefferson Gray\, Matt Fishbein\, Nancy Hollander\,  Natasha Silas\, Scott Richardson. \nA formação contará com uma sessão prática\, gratuita e aberta ao público no Supremo Tribunal de Justiça no dia 6 de junho\, entre as 10h e as 12.30h. \n*             *             * \nConheça os nossos formadores: \nhttps://www.forumpenal.pt/wp-content/uploads/2025/03/TRTRIAL-ADVOCACY-TRAINING-MASTERING-THE-ART-OF-CRIMINAL-LITIGATION-6-1.mp4
URL:https://www.forumpenal.pt/evento/trial-advocacy-training-mastering-the-art-of-criminal-litigation-2/
LOCATION:Supremo Tribunal de Justiça\, Praça do Comércio\, Lisboa\, 1149-012\, Portugal
CATEGORIES:workshop
ATTACH;FMTTYPE=image/jpeg:https://www.forumpenal.pt/wp-content/uploads/2025/06/Imagem-WhatsApp-2025-06-02-as-13.49.36_4124ea3d.jpg
END:VEVENT
END:VCALENDAR