BEGIN:VCALENDAR
VERSION:2.0
PRODID:-//Forum Penal - ECPv6.15.20//NONSGML v1.0//EN
CALSCALE:GREGORIAN
METHOD:PUBLISH
X-WR-CALNAME:Forum Penal
X-ORIGINAL-URL:https://www.forumpenal.pt
X-WR-CALDESC:Eventos para Forum Penal
REFRESH-INTERVAL;VALUE=DURATION:PT1H
X-Robots-Tag:noindex
X-PUBLISHED-TTL:PT1H
BEGIN:VTIMEZONE
TZID:UTC
BEGIN:STANDARD
TZOFFSETFROM:+0000
TZOFFSETTO:+0000
TZNAME:UTC
DTSTART:20230101T000000
END:STANDARD
END:VTIMEZONE
BEGIN:VEVENT
DTSTART;TZID=UTC:20241115T170000
DTEND;TZID=UTC:20241115T200000
DTSTAMP:20260421T201351
CREATED:20241018T095843Z
LAST-MODIFIED:20241018T105910Z
UID:28-1731690000-1731700800@www.forumpenal.pt
SUMMARY:2.º Forum da Advocacia Penal Portuguesa
DESCRIPTION:Estão abertas as inscrições para o 2.º Forum da Advocacia Penal Portuguesa\, a realizar nos dias 15 e 16 de novembro\, no Hotel MH\, em Peniche. \nEste será o nosso segundo encontro para um debate livre\, vivo e construtivo sobre os principais temas da atualidade jurídica e judiciária. \nO Forum será em formato presencial\, e contará com diversos painéis\, tanto na sexta-feira à tarde (dia 15)\, como durante o dia de sábado (dia 16)\, constituindo esta uma oportunidade única para nos revermos\, bem como a demais Colegas penalistas que pretendam juntar-se a este evento. \nHá preços especiais para Associados do Forum Penal. \nContamos com todos! \n  \n 
URL:https://www.forumpenal.pt/evento/2-o-forum-da-advocacia-penal-portuguesa/
LOCATION:Hotel MH Peniche\, Avenida Monsenhor Bastos\,\, Peniche\, 2520-206\, Portugal
END:VEVENT
END:VCALENDAR